BEGIN:VCALENDAR
VERSION:2.0
PRODID:-//Welcome to KE Global - ECPv5.9.0//NONSGML v1.0//EN
CALSCALE:GREGORIAN
METHOD:PUBLISH
X-WR-CALNAME:Welcome to KE Global
X-ORIGINAL-URL:https://keglobal.org
X-WR-CALDESC:Events for Welcome to KE Global
BEGIN:VTIMEZONE
TZID:UTC
BEGIN:STANDARD
TZOFFSETFROM:+0000
TZOFFSETTO:+0000
TZNAME:UTC
DTSTART:20250101T000000
END:STANDARD
END:VTIMEZONE
BEGIN:VEVENT
DTSTART;TZID=UTC:20250705T090000
DTEND;TZID=UTC:20250705T113000
DTSTAMP:20260423T010007
CREATED:20250702T131000Z
LAST-MODIFIED:20250702T131000Z
UID:5074-1751706000-1751715000@keglobal.org
SUMMARY:KE Dubai Breakfast Meet
DESCRIPTION:This KE Breakfast Meet is not your usual cup of coffee… It’s a full-on power boost!  \nWe’re inviting ALL our amazing KE members to come together for a morning of meaningful connections\, inspiring conversations\, and a seriously delightful breakfast spread. \nLocation: Winny’s Restaurant\, Karama\, Dubai \nDate: Saturday\, July 5\, 2025 \nTime: 09:00 AM sharp — we don’t keep inspiration waiting! \nBut wait — there’s more than just food for the body. This time\, we’re serving food for the mind and soul too \nSpecial Session Alert!\nGet ready to be inspired by our very own KE member\, Dr. Rajesh Pai\, as he takes us through\n“Navigating the Fundraising Journey” — a game-changing talk that’ll give you clarity\, courage\, and strategy for your own path \nThis isn’t just another meet.\nIt’s the meet that sets the tone for the rest of your year. \nDon’t miss it. Be there.
URL:https://keglobal.org/event/ke-dubai-breakfast-meet/
LOCATION:Winny’s Restaurant\, Karama\, Dubai\, Karama Dubai\, Dubai\, United Arab Emirates
CATEGORIES:Education
ATTACH;FMTTYPE=image/png:https://keglobal.org/wp-content/uploads/2025/07/KEL-Welcome.png
END:VEVENT
END:VCALENDAR