BEGIN:VCALENDAR
VERSION:2.0
PRODID:-//Welcome to KE Global - ECPv5.9.0//NONSGML v1.0//EN
CALSCALE:GREGORIAN
METHOD:PUBLISH
X-WR-CALNAME:Welcome to KE Global
X-ORIGINAL-URL:https://keglobal.org
X-WR-CALDESC:Events for Welcome to KE Global
BEGIN:VTIMEZONE
TZID:UTC
BEGIN:STANDARD
TZOFFSETFROM:+0000
TZOFFSETTO:+0000
TZNAME:UTC
DTSTART:20260101T000000
END:STANDARD
END:VTIMEZONE
BEGIN:VEVENT
DTSTART;TZID=UTC:20260425T180000
DTEND;TZID=UTC:20260425T200000
DTSTAMP:20260423T204845
CREATED:20260423T161828Z
LAST-MODIFIED:20260423T161828Z
UID:5880-1777140000-1777147200@keglobal.org
SUMMARY:The 2026 NRI Tax Masterclass
DESCRIPTION:Big news for the expat community  \nKE Dubai is back with yet another power-packed event\, and this one is designed especially for NRIs across the Gulf! \nGet ready for “ The 2026 NRI Tax Masterclass ”—a session that turns confusion into clarity: \nN – No Stressing\nR – Regarding\nI – Indian Tax Laws \nAnd who better to guide us than the seasoned expert himself\, CA Arun Vaz. \n \n  \nAbout Speaker:\nCA Arun Vaz brings over 20 years of experience in audit\, assurance\, financial consulting\, and regulatory representation. He is the Co-Founder and Director of Transformatrix Global Pvt. Ltd.\, and the Founder of Vaz Samel & Associates\, a Chartered Accountancy firm established in 2012. \nHe also serves as a Director at Dimensions Global and is a Lead Member at KE. Additionally\, he is a Partner at R.C. Jain & Associates LLP\, a reputed firm with over 38 years of legacy\, working extensively with institutions such as CAG\, RBI\, SEBI\, and major national banks. \nRecognized as a trusted advisor to leading real estate groups in India\, CA Arun Vaz is known for his precision\, strategic insight\, and ethical practice. He is a Certified Fraud Examiner and holds certifications as a Certified Anti-Money Laundering Specialist (CAMS) and a Certified CSR Expert (CSR)\, bringing robust compliance expertise to the forefront of client service. \nIn recognition of his exceptional entrepreneurial journey and contributions to society\, he has been awarded the prestigious REX Karmaveer Global Fellowship and the Karmaveer Chakra Award. \nRegistration link : https://forms.gle/QhFv24hMEydT9DGf7 \nDon’t miss it. Your future self (and your finances) will thank you.
URL:https://keglobal.org/event/the-2026-nri-tax-masterclass/
LOCATION:Online\, United Arab Emirates
CATEGORIES:Education
ATTACH;FMTTYPE=image/jpeg:https://keglobal.org/wp-content/uploads/2026/04/WhatsApp-Image-2026-04-15-at-19.11.26.jpeg
END:VEVENT
BEGIN:VEVENT
DTSTART;TZID=UTC:20260517T090000
DTEND;TZID=UTC:20260517T140000
DTSTAMP:20260423T204845
CREATED:20260407T044319Z
LAST-MODIFIED:20260420T164855Z
UID:5828-1779008400-1779026400@keglobal.org
SUMMARY:KE VISIONX MANGALORE 2026- A Christian Youth Program on Startups & Entrepreneurship
DESCRIPTION:Kanara Entrepreneurs (KE) is conducting VISIONX MANGALORE 2026\, \nA Christian Youth Program on Startups & Entrepreneurship\, \nin collaboration with MCC Bank\, Rachana and Daijiworld \nSunday\, 17th May\, 2026 (9:00 AM-2:00 PM) \nPFX Saldanha Memorial Auditorium\,\nMCC Bank\, Light House Hill Road\, Mangalore \nSession includes:\nKeynote Address by NRI Entrepreneur & Philanthropist Michael DSouza\nSession on Entrepreneurship\, Networking & Funding\nHands-on Idea-to-Action Workshop\nNetworking with other aspiring entrepreneurs & speakers \nRegistration is a must- Here is the link to register : https://forms.gle/kJBVvj91vZFYpnZDA \nEntry Fees: Rs 200/- (Includes Breakfast\, Lunch and A copy of book Waves of Grit – Stories of Entrepreneurial Excellence) \nLimited Seats – don’t miss this opportunity to learn\, connect & grow! \nContact: \nLeena Lobo (95357 01702)\nPramod (98457 87003) \n 
URL:https://keglobal.org/event/vision-x-mangalore-2026/
LOCATION:PFX SALDANHA MEMORIAL AUDITORIUM\, 2nd floor\, MCC Bank\, Light House Hill Road\, Mangalore\, Karnataka\, 575003\, India
CATEGORIES:Education
ATTACH;FMTTYPE=image/jpeg:https://keglobal.org/wp-content/uploads/2026/04/VISIONX-MANGLORE.jpeg
END:VEVENT
END:VCALENDAR